BEGIN:VCALENDAR
VERSION:2.0
PRODID:-//wp-events-plugin.com//7.2.3.1//EN
TZID:America/New_York
X-WR-TIMEZONE:America/New_York
BEGIN:VEVENT
UID:1036@bethelsudbury.org
DTSTART;TZID=America/New_York:20250706T193000
DTEND;TZID=America/New_York:20250706T210000
DTSTAMP:20250706T022742Z
URL:https://www.bethelsudbury.org/events/zeh-hayom-zach-mayer-and-friends/
SUMMARY:Zeh Hayom: Zach Mayer and Friends
DESCRIPTION:Join us for a joyful evening of music\, connection\, and celebr
 ation as saxophonist\, singer\, and composer Zach Mayer returns to Congreg
 ation Beth El to debut his brand new album\, "Zeh Hayom" ("This is the Day
 "). Backed by a dynamic ensemble of some of Boston’s finest Jewish music
 ians\,* Zach brings to life an unforgettable collection of original melodi
 es inspired by Jewish texts\, rich rhythms\, and heartfelt harmonies—mus
 ic created to bring people together in song and connection. Come ready to 
 sing\, dance\, and be uplifted.\n\n 	Tickets are $27/18\, sliding scale&nb
 sp\; — purchase tickets on Eventbrite.\n 	The concert is free to Beth El
  members (click here to register if you are a member).\n 	Advance registra
 tion required for childcare (register by July 3rd)\; otherwise\, tickets m
 ay be purchased at the door.\n\n* Featured musicians:\n\n 	Zach Mayer — 
 vocals\, saxophone\n 	Yoni Battat — viola\, oud\, vocals\n 	Sofia Chiara
 ndini— violin\, vocals\n 	Cantor Vera Broekhuysen — vocals\n 	Richie B
 arshay — percussion\n\nWe are looking for volunteers to bring food for a
  post-concert oneg! Please sign up here.\n\nZeh Hayom is officially out! Y
 ou can stream and buy the album&nbsp\;here.
ATTACH;FMTTYPE=image/jpeg:https://www.bethelsudbury.org/wp-content/uploads
 /2025/06/Zach-Mayer-Zeh-HaYom-for-our-website-1200-x-800-px1-1.png
CATEGORIES:Home page
END:VEVENT
BEGIN:VTIMEZONE
TZID:America/New_York
X-LIC-LOCATION:America/New_York
BEGIN:DAYLIGHT
DTSTART:20250309T030000
TZOFFSETFROM:-0500
TZOFFSETTO:-0400
TZNAME:EDT
END:DAYLIGHT
END:VTIMEZONE
END:VCALENDAR