BEGIN:VCALENDAR
VERSION:2.0
PRODID:-//wp-events-plugin.com//7.2.3.1//EN
TZID:America/New_York
X-WR-TIMEZONE:America/New_York
BEGIN:VEVENT
UID:962@bethelsudbury.org
DTSTART;TZID=America/New_York:20250130T190000
DTEND;TZID=America/New_York:20250130T203000
DTSTAMP:20241224T005121Z
URL:https://www.bethelsudbury.org/events/winds-of-pro-arte-at-congregation
 -beth-el/
SUMMARY:Winds of Pro Arte
DESCRIPTION:Beth El is delighted to welcome Pro Arte back for another beaut
 iful concert of classical music! This special additional performance of th
 e Pro Arte Wind Quintet features a variety of works by significant compose
 rs for the genre. This performance will be complemented by an additional p
 erformance at the Salon Series home venue at the Allen Center for Arts and
  Culture on Sunday\, February 9\, 2025.\n\nWe will fly through the light H
 umoresque by Alexander von Zemlinsky\, and the charming La Cheminée du Ro
 i René by Darius Milhaud\, and will anchor ourselves with the monumental 
 Kleine Kammermusik by Paul Hindemith. All three of these composers were em
 igrés to America\, having fled the Nazis\, and their works are extremely 
 important in the wind quintet canon. Local composers Arthur Berger and Gun
 ther Schuller\, both with strong ties to Boston\, round out the program. B
 erger was a Brandeis faculty member and Schuller was the president of the 
 New England Conservatory and the conductor laureate of Pro Arte.\n\nPlease
  join us for this extremely varied\, unique and fun program that showcases
  the many colors of the woodwind quintet. Click here to register.&nbsp\;\n
 \nMusical Program:\n\n 	Alexander Von Zemlinksy — Humoresque\n 	Arthur B
 erger — Quartet in C Major\n 	Darius Milhaud&nbsp\;— La&nbsp\;Cheminé
 e Du Roi René\, Op. 205\n 	Paul Hindemith — Kleine Kammermusik\, Op. 24
  No. 2\n 	Gunther Schuller — Suite For Wind Quintet\n\nThe Salon Series 
 is Pro Arte's chamber music concert series. Each performance features a se
 lect handful of musicians from Pro Arte's cooperative along with occasiona
 l guest artists to present musical gems not featured in the full orchestra
 l Ensemble Series. It's a perfect way get to know Pro Arte players better.
  If you haven’t been to one of these concerts\, they are presented in a 
 less formal manner and feature plenty of opportunity to interact with the 
 musicians and to learn more about the music.\n\nPerformers (see the Pro Ar
 te website for their photos):\n\n 	Anne Bobo\, flute\n 	Nancy Dimock\, obo
 e\n 	Ian Greitzer\, clarinet\n 	Ronald Haroutunian\, bassoon\n 	Robert Mar
 latt\, horn\n
ATTACH;FMTTYPE=image/jpeg:https://www.bethelsudbury.org/wp-content/uploads
 /2024/12/Pro-Arte-Winds2.jpg
CATEGORIES:Home page
END:VEVENT
BEGIN:VTIMEZONE
TZID:America/New_York
X-LIC-LOCATION:America/New_York
BEGIN:STANDARD
DTSTART:20241103T010000
TZOFFSETFROM:-0400
TZOFFSETTO:-0500
TZNAME:EST
END:STANDARD
END:VTIMEZONE
END:VCALENDAR