BEGIN:VCALENDAR
VERSION:2.0
PRODID:-//wp-events-plugin.com//7.2.3.1//EN
TZID:America/New_York
X-WR-TIMEZONE:America/New_York
BEGIN:VEVENT
UID:54@bethelsudbury.org
DTSTART;TZID=America/New_York:20211117T193000
DTEND;TZID=America/New_York:20211117T193000
DTSTAMP:20211110T003221Z
URL:https://www.bethelsudbury.org/events/update-on-work-for-asociacion-ben
 dicion-de-dios-school-in-guatemala/
SUMMARY:Update on work for Asociacion Bendicion de Dios School in Guatemala
DESCRIPTION:We invite you to an update on Asociacion Bendicion de Dios Scho
 ol in Guatemala\, an oasis for children living in extreme poverty. Hear fr
 om Julio Garcia\, its dynamic director\, about how this community was hit 
 hard by COVID\, and how he persevered to secure rarely available vaccines.
  Learn how your gifts last year saved many families from hunger and kept c
 hildren learning remotely throughout the year.\n\nJoin us on Zoom with Rab
 bi Josh Breindel on Wednesday\, Nov. 17 at 7:30 p.m. for an interesting an
 d inspiring evening learning about our work in Guatemala. Listen to and as
 k questions of school director\, Julio Garcia. Hear his inspirational stor
 y and see the impact of your purchases and gifts. Through the help of peop
 le like you\, he has already saved more than 1\,000 children from illitera
 cy and provided them with a path out of poverty. Click here to register.\n
 \nAs students graduate\, they need scholarships to pursue career paths to 
 break the cycle of poverty. They are becoming teachers\, accountants\, hot
 el managers\, bookkeepers\, physical therapists\, construction workers and
  more. Can you help? Make a gift now — click here to donate.\n\n 	$50 fe
 eds a hungry family for a month\n 	$250 feeds 5 hungry families for a mont
 h\n 	$300 sponsors a young student for a year\n 	$400 sponsors a full care
 er scholarship for a high school student\n 	$1\,000 covers partial cost of
  a teacher salary\n\nMany thanks from Beth El members&nbsp\;Jane and Marti
 n Brauer\, board members of Under the Same Moon\, an adopted initiative of
  Beth El's Sanctuary Committee.
ATTACH;FMTTYPE=image/jpeg:https://www.bethelsudbury.org/wp-content/uploads
 /2021/11/guatemala.jpg
END:VEVENT
BEGIN:VTIMEZONE
TZID:America/New_York
X-LIC-LOCATION:America/New_York
BEGIN:STANDARD
DTSTART:20211107T010000
TZOFFSETFROM:-0400
TZOFFSETTO:-0500
TZNAME:EST
END:STANDARD
END:VTIMEZONE
END:VCALENDAR