BEGIN:VCALENDAR
VERSION:2.0
PRODID:-//wp-events-plugin.com//7.2.3.1//EN
TZID:America/New_York
X-WR-TIMEZONE:America/New_York
BEGIN:VEVENT
UID:596@bethelsudbury.org
DTSTART;TZID=America/New_York:20231001T093000
DTEND;TZID=America/New_York:20231001T110000
DTSTAMP:20230928T181315Z
URL:https://www.bethelsudbury.org/events/the-n-word-from-slavery-to-hip-ho
 p/
SUMMARY:The N-Word from Slavery to Hip Hop
DESCRIPTION:The "N-word" is one of the most controversial words in North Am
 erican History. Domingo Guyton has been enlightening audiences across the 
 U.S. on the origins of the word and its evolution into the popular term it
  is today. The discussion will take you on a thought-provoking journey and
  exploration of its use in today's society.\n\nThe event will be in person
  and on Zoom. Co-Sponsored by the Tikkun Olam Committee and the Anti-Racis
 m Working Group.
ATTACH;FMTTYPE=image/jpeg:https://www.bethelsudbury.org/wp-content/uploads
 /2023/08/Domingo-photo.png
CATEGORIES:Home page,Services
END:VEVENT
BEGIN:VTIMEZONE
TZID:America/New_York
X-LIC-LOCATION:America/New_York
BEGIN:DAYLIGHT
DTSTART:20230312T030000
TZOFFSETFROM:-0500
TZOFFSETTO:-0400
TZNAME:EDT
END:DAYLIGHT
END:VTIMEZONE
END:VCALENDAR