BEGIN:VCALENDAR
VERSION:2.0
PRODID:-//wp-events-plugin.com//7.2.3.1//EN
TZID:America/New_York
X-WR-TIMEZONE:America/New_York
BEGIN:VEVENT
UID:915@bethelsudbury.org
DTSTART;TZID=America/New_York:20241117T183000
DTEND;TZID=America/New_York:20241117T200000
DTSTAMP:20241114T205036Z
URL:https://www.bethelsudbury.org/events/the-injustices-of-the-criminal-le
 gal-system-a-conversation-with-stacey-borden/
SUMMARY:The Injustices of the Criminal Legal System: A Conversation with St
 acey Borden
DESCRIPTION:In conversation with Stacey Borden\, founder and executive dire
 ctor of New Beginnings Reentry Services\, learn how Black and Brown women 
 disproportionately end up in prison\, how the criminal legal system fails 
 them\, and why Borden is an advocate for healing over imprisonment. You’
 ll learn about concrete actions you can take to advocate for justice.&nbsp
 \;\n\nNew Beginnings Reentry Services is a Dorchester organization whose m
 ission is to reduce recidivism by advocating for and providing services to
  formerly incarcerated women reentering local communities. For almost 30 y
 ears\, Borden was in and out of prison. From her personal experiences and 
 understanding of the system\, she became an abolitionist and fierce advoca
 te for women suffering from domestic and sexual violence. She has a master
 ’s degree in mental health counseling with a concentration in addictions
  and trauma. She has been honored with numerous awards for her commitment 
 to community service and advocacy for others.\n\nThis is a hybrid event 
 — join in person at Beth El\, or virtually on Zoom or Livestream:\n\n&nb
 sp\; &nbsp\; Zoom link&nbsp\; &nbsp\; &nbsp\; &nbsp\; &nbsp\; &nbsp\; Live
 streaming link\n\nSponsored by the Antiracism Working Group in partnership
  with Cantor Vera Broekhuysen and J-LOFT (Jewish Learning Opportunities fo
 r Teens).
ATTACH;FMTTYPE=image/jpeg:https://www.bethelsudbury.org/wp-content/uploads
 /2024/10/borden.jpg
CATEGORIES:Home page
END:VEVENT
BEGIN:VTIMEZONE
TZID:America/New_York
X-LIC-LOCATION:America/New_York
BEGIN:STANDARD
DTSTART:20241103T010000
TZOFFSETFROM:-0400
TZOFFSETTO:-0500
TZNAME:EST
END:STANDARD
END:VTIMEZONE
END:VCALENDAR