BEGIN:VCALENDAR
VERSION:2.0
PRODID:-//wp-events-plugin.com//7.2.3.1//EN
TZID:America/New_York
X-WR-TIMEZONE:America/New_York
BEGIN:VEVENT
UID:972@bethelsudbury.org
DTSTART;TZID=America/New_York:20250220T193000
DTEND;TZID=America/New_York:20250220T210000
DTSTAMP:20250226T154048Z
URL:https://www.bethelsudbury.org/events/the-golem-an-exploration-of-jewis
 h-lore/
SUMMARY:The Golem: An Exploration of Jewish Lore\, part 1
DESCRIPTION:Made from the earth and animated by spiritual knowledge\, the g
 olem serves its creator and protects the Jewish people... for a time. From
  Rabbinic writings to "The X-Files\,” from Kabbalistic teachings to "The
  Terminator\," we’ll explore how this dynamic figure continues to shape 
 Jewish (and Western) art and fiction. Each of the three sessions will util
 ize text and media clips to explore a different aspect of the golem's stor
 y. Source sheets (and a brief synopsis of preceding classes) will be offer
 ed in each session.\n\nTaught by "Sci-Fi Rabbi" Josh Breindel\, co-leader 
 of the online Jewish Fantasy and Science Fiction Book Club. Sponsored by t
 he Beth El Adult Education Committee.\n\nSession 1: The Golem Created (Feb
 ruary 20)\nWe’ll explore Rabbinic and Kabbalistic texts on crafting a go
 lem.&nbsp\;What are the powers (and limitations) of this awesome figure?&n
 bsp\;How did this Jewish legend begin to influence European storytelling?\
 nSession 2: The Golem Revealed (February 27)\nThe golem's original calling
  was to protect the Jewish people. Sometimes\, however\, that went awry...
  In this session\, we'll delve into materials from the modern period that 
 explore how the golem's mission was expanded (and diverted) as it became a
  danger even to its creator.\nSession 3: The Golem Redeemed (March 6)\nIn 
 recent years\, the golem has become a staple of speculative fiction. Our f
 inal conversation will explore how the golem has come to offer us insights
  into interpersonal relationships\, spiritual quests\, and personal growth
 .\nAt Beth El and on Zoom. Click here to register. Cost: $36 for all three
  classes\, but free for Beth El members (use the promo code that's being e
 mailed to members). Peruse the source sheet for this session!
ATTACH;FMTTYPE=image/jpeg:https://www.bethelsudbury.org/wp-content/uploads
 /2025/01/golem-for-web2.jpg
CATEGORIES:Home page
END:VEVENT
BEGIN:VTIMEZONE
TZID:America/New_York
X-LIC-LOCATION:America/New_York
BEGIN:STANDARD
DTSTART:20241103T010000
TZOFFSETFROM:-0400
TZOFFSETTO:-0500
TZNAME:EST
END:STANDARD
END:VTIMEZONE
END:VCALENDAR