BEGIN:VCALENDAR
VERSION:2.0
PRODID:-//wp-events-plugin.com//7.2.3.1//EN
TZID:America/New_York
X-WR-TIMEZONE:America/New_York
BEGIN:VEVENT
UID:870@bethelsudbury.org
DTSTART;TZID=America/New_York:20240818T160000
DTEND;TZID=America/New_York:20240818T203000
DTSTAMP:20240903T235913Z
URL:https://www.bethelsudbury.org/events/summer-love-at-beth-el-tu-bav-son
 gfest-and-barbecue/
SUMMARY:Summer Love at Beth El: Tu B'Av Songfest and Barbecue
DESCRIPTION:Grillin' and Chillin' — 4pm\nLet’s come together for a soci
 al event to move past the latest Covid wave and nosh and schmooze with our
  Beth El friends. Registration required\; check back here for the link.\n\
 nWant to help out by bringing something\, or helping with setup or cleanup
 ? It's a great way to hang out with a fun group of people! See where we st
 ill need a little help\, and sign up here.\n\nRegistration link.\nTu b’A
 v songfest — 6:45pm\nTu b’Av (the 15th of Av) is a Jewish day of love\
 , a time for celebrating the lush outdoors and seeking one another’s com
 pany. Let’s enjoy the pleasure of shared song for a couple of dreamy sum
 mer hours! Led by Cantor Vera Broekhuysen and Cantor Emerita Lorel Zar-Kes
 sler\, we’ll sit together\, schmooze and sing popular songs of love in E
 nglish\, Hebrew and more. Bring a copy of "Rise Up Singing" if you have it
 \; bring an instrument if you play one\; bring something sweet and snacky 
 to share. All are welcome! If weather permits\, we’ll be in the Gan Doro
 t (the Beth El garden).\n\nGrillin' and Chillin' will be immediately&nbsp\
 ; followed by the Tu b'Av songfest — please plan on joining us for both 
 events.\n&nbsp\;
ATTACH;FMTTYPE=image/jpeg:https://www.bethelsudbury.org/wp-content/uploads
 /2024/07/Summer-Love-at-Beth-El-for-website-2024.png
CATEGORIES:Home page
END:VEVENT
BEGIN:VTIMEZONE
TZID:America/New_York
X-LIC-LOCATION:America/New_York
BEGIN:DAYLIGHT
DTSTART:20240310T030000
TZOFFSETFROM:-0500
TZOFFSETTO:-0400
TZNAME:EDT
END:DAYLIGHT
END:VTIMEZONE
END:VCALENDAR