BEGIN:VCALENDAR
VERSION:2.0
PRODID:-//wp-events-plugin.com//7.2.3.1//EN
TZID:America/New_York
X-WR-TIMEZONE:America/New_York
BEGIN:VEVENT
UID:837@bethelsudbury.org
DTSTART;TZID=America/New_York:20240427T190000
DTEND;TZID=America/New_York:20240427T210000
DTSTAMP:20240319T013723Z
URL:https://www.bethelsudbury.org/events/singing-our-way-to-freedom-song-h
 avdalah-with-aly-halpert/
SUMMARY:Singing Our Way to Freedom: Song & Havdalah with Aly Halpert
DESCRIPTION:In times of brokenness\, it's often even harder to dream toward
 s a world that is whole. Singing is a tool that helps us connect\, remembe
 r our collective humanity\, and to move through feelings of grief and joy.
  Singing literally helps bring about the world we're dreaming — groundin
 g us in our bodies\, in community\, and in hope as a practice.\n\nThis Pas
 sover\, join us at Congregation Beth El of the Sudbury River Valley for an
  evening of healing and rejuvenating original music with Aly Halpert\, who
  will teach and lead songs towards the collective liberation we deserve. W
 e'll say goodbye to Shabbat together and orient through song towards the w
 orld we want to build.\n\nRegistration required for this in-person event\;
  please click here.
ATTACH;FMTTYPE=image/jpeg:https://www.bethelsudbury.org/wp-content/uploads
 /2024/03/Aly-Halpert-1200x800-for-website.png
CATEGORIES:Home page
END:VEVENT
BEGIN:VTIMEZONE
TZID:America/New_York
X-LIC-LOCATION:America/New_York
BEGIN:DAYLIGHT
DTSTART:20240310T030000
TZOFFSETFROM:-0500
TZOFFSETTO:-0400
TZNAME:EDT
END:DAYLIGHT
END:VTIMEZONE
END:VCALENDAR