BEGIN:VCALENDAR
VERSION:2.0
PRODID:-//wp-events-plugin.com//7.2.3.1//EN
TZID:America/New_York
X-WR-TIMEZONE:America/New_York
BEGIN:VEVENT
UID:884@bethelsudbury.org
DTSTART;TZID=America/New_York:20240921T133000
DTEND;TZID=America/New_York:20240921T143000
DTSTAMP:20240919T153236Z
URL:https://www.bethelsudbury.org/events/singing-our-supplications-musical
 -traditions-for-a-song-of-selichot/
SUMMARY:Singing our Supplications: Musical Traditions for a Song of Selicho
 t
DESCRIPTION:On Selichot\, we soften ourselves up in readiness for the Days 
 of Awe\, and humbly ask forgiveness for the ways we’ve erred and hardene
 d. The liturgical poem or piyyut “Chon Tachon” (“please forgive)” 
 pairs contrition with hope and helps us prepare to stand\, vulnerable and 
 seeking\, in front of the New Year’s door. Join Cantor Vera as we look d
 eeply into one piyyut\, three melodies (Italian\, Moroccan and Kolkatan)\,
  and the ways we get ready to sing "we’re sorry" at Selichot.\n\n 	Selic
 hot wordsheet\n 	Zoom link\n
ATTACH;FMTTYPE=image/jpeg:https://www.bethelsudbury.org/wp-content/uploads
 /2024/08/Night-sky.jpg
CATEGORIES:Home page
END:VEVENT
BEGIN:VTIMEZONE
TZID:America/New_York
X-LIC-LOCATION:America/New_York
BEGIN:DAYLIGHT
DTSTART:20240310T030000
TZOFFSETFROM:-0500
TZOFFSETTO:-0400
TZNAME:EDT
END:DAYLIGHT
END:VTIMEZONE
END:VCALENDAR