BEGIN:VCALENDAR
VERSION:2.0
PRODID:-//wp-events-plugin.com//7.2.3.1//EN
TZID:America/New_York
X-WR-TIMEZONE:America/New_York
BEGIN:VEVENT
UID:841@bethelsudbury.org
DTSTART;TZID=America/New_York:20240330T140000
DTEND;TZID=America/New_York:20240330T160000
DTSTAMP:20240326T024819Z
URL:https://www.bethelsudbury.org/events/shabbat-afternoon-hike/
SUMMARY:Shabbat Afternoon Hike
DESCRIPTION:Enjoy a Shabbat afternoon hike through the springtime woods to 
 the lookout at Tippling Rock\, punctuated with stops to share themes of Sh
 abbat. The hike will be led by Rabbi Josh Breindel and Cantor Vera Broekhu
 ysen and will be over easy-to-moderate trails at a moderate pace. All ages
  are welcome. Co- sponsored by Ma'yan Tikvah. Meet at 1 Nobscot Road in Su
 dbury (the scouting reservation parking lot).
ATTACH;FMTTYPE=image/jpeg:https://www.bethelsudbury.org/wp-content/uploads
 /2024/03/woods-hiking-image.jpg
CATEGORIES:Home page
END:VEVENT
BEGIN:VTIMEZONE
TZID:America/New_York
X-LIC-LOCATION:America/New_York
BEGIN:DAYLIGHT
DTSTART:20240310T030000
TZOFFSETFROM:-0500
TZOFFSETTO:-0400
TZNAME:EDT
END:DAYLIGHT
END:VTIMEZONE
END:VCALENDAR