BEGIN:VCALENDAR
VERSION:2.0
PRODID:-//wp-events-plugin.com//7.2.3.1//EN
TZID:America/New_York
X-WR-TIMEZONE:America/New_York
BEGIN:VEVENT
UID:1050@bethelsudbury.org
DTSTART;TZID=America/New_York:20250919T193000
DTEND;TZID=America/New_York:20250919T204500
DTSTAMP:20260121T214237Z
URL:https://www.bethelsudbury.org/events/sea-shanty-shabbat-3/
SUMMARY:Sea Shanty Shabbat
DESCRIPTION:Ahoy\, hearties! Join us for a lighthearted\, lilting Shabbat w
 ith the tang of salt spray in our melodies\, before we dive into the Yamim
  Nora’im (Days of Awe). We’ll sing shanties and other songs of the sea
  as part of our Shabbat liturgy\, with the active conspiracy of some of ou
 r stalwart Purim players. Seafaring garb and gab are both warmly encourage
 d!\n\n» Zoom link\n\n» Sea Shanty Shabbat lyrics sheet
ATTACH;FMTTYPE=image/jpeg:https://www.bethelsudbury.org/wp-content/uploads
 /2024/08/Sea-Shanty-Shabbat-at-Beth-El-for-website-2024-1.png
CATEGORIES:Home page
END:VEVENT
BEGIN:VTIMEZONE
TZID:America/New_York
X-LIC-LOCATION:America/New_York
BEGIN:DAYLIGHT
DTSTART:20250309T030000
TZOFFSETFROM:-0500
TZOFFSETTO:-0400
TZNAME:EDT
END:DAYLIGHT
END:VTIMEZONE
END:VCALENDAR