BEGIN:VCALENDAR
VERSION:2.0
PRODID:-//wp-events-plugin.com//7.2.3.1//EN
TZID:America/New_York
X-WR-TIMEZONE:America/New_York
BEGIN:VEVENT
UID:876@bethelsudbury.org
DTSTART;TZID=America/New_York:20240920T193000
DTEND;TZID=America/New_York:20240920T204500
DTSTAMP:20240925T142659Z
URL:https://www.bethelsudbury.org/events/sea-shanty-shabbat-2/
SUMMARY:Sea Shanty Shabbat
DESCRIPTION:Ahoy\, hearties! Join Cantor Vera and Rabbi Josh for a lighthea
 rted\, lilting Shabbat with the tang of salt spray in our melodies\, befor
 e we dive into the Yamim Nora’im (Days of Awe). We’ll sing shanties an
 d other songs of the sea as part of our Shabbat liturgy. Seafaring garb an
 d gab are both warmly encouraged!\n\nClick here for lyric sheet. Join us i
 n person and on Zoom.
ATTACH;FMTTYPE=image/jpeg:https://www.bethelsudbury.org/wp-content/uploads
 /2024/08/Sea-Shanty-Shabbat-at-Beth-El-for-website-2024.png
CATEGORIES:Home page
END:VEVENT
BEGIN:VTIMEZONE
TZID:America/New_York
X-LIC-LOCATION:America/New_York
BEGIN:DAYLIGHT
DTSTART:20240310T030000
TZOFFSETFROM:-0500
TZOFFSETTO:-0400
TZNAME:EDT
END:DAYLIGHT
END:VTIMEZONE
END:VCALENDAR