BEGIN:VCALENDAR
VERSION:2.0
PRODID:-//wp-events-plugin.com//7.2.3.1//EN
TZID:America/New_York
X-WR-TIMEZONE:America/New_York
BEGIN:VEVENT
UID:851@bethelsudbury.org
DTSTART;TZID=America/New_York:20240601T193000
DTEND;TZID=America/New_York:20240601T210000
DTSTAMP:20240524T183522Z
URL:https://www.bethelsudbury.org/events/revelry-molly-bajgot-leads-song-c
 ircle-havdalah/
SUMMARY:Revelry: Molly Bajgot Leads Song Circle & Havdalah
DESCRIPTION:Join us for an inspiring evening of new Jewish music and closin
 g-of-Shabbat ritual with Molly Bajgot. Molly will share music from her new
  first full-length album\, "Revelry" — new tunes for Jewish liturgy and 
 original songs of hope. Together\, we’ll create a sacred and songful spa
 ce to close out Shabbat and step into the week. This event is cosponsored 
 by B’nai Torah MetroWest\, Ma’yan Tikvah\, and Keshet. Please click he
 re to register.\n\nAs a singer\, songwriter\, and community prayer leader\
 , Molly Bajgot (she/her) writes songs for quenching the soul and melodies 
 to enliven Jewish liturgy. Her music comes from places of pain\, joy\, gri
 ef\, and a commitment to life and beauty. Today\, she writes original song
 s and melodies for Jewish liturgy that draw from a place of yearning and r
 eclamation.&nbsp\;\n\n"Revelry" is an album of original Jewish music and s
 ongs of hope. The songs feature a rich texture of powerful vocal arrangeme
 nts\, harmonies\, string instruments\, and immersive percussion. Many are 
 meant to be sung in community\, sharing messages of resilience and possibi
 lity. This music seeks to reflect the depth and vast emotional landscapes 
 of our lives. As our communities continually navigate how to stay connecte
 d amidst increasing pressure to isolate and separate\, we have a sacred ta
 sk to stay oriented to ourselves\, our people\, and our traditions. This a
 lbum is a prayer for just that.\n\nFeel free to sign up to bring a nosh af
 ter the concert and Havdalah. Volunteer greeters are also needed\; please 
 email belinda.spinningiamge@gmail.com.
ATTACH;FMTTYPE=image/jpeg:https://www.bethelsudbury.org/wp-content/uploads
 /2024/04/Molly-Bajgot-1200x800-for-website.png
CATEGORIES:Home page
END:VEVENT
BEGIN:VTIMEZONE
TZID:America/New_York
X-LIC-LOCATION:America/New_York
BEGIN:DAYLIGHT
DTSTART:20240310T030000
TZOFFSETFROM:-0500
TZOFFSETTO:-0400
TZNAME:EDT
END:DAYLIGHT
END:VTIMEZONE
END:VCALENDAR