BEGIN:VCALENDAR
VERSION:2.0
PRODID:-//wp-events-plugin.com//7.2.3.1//EN
TZID:America/New_York
X-WR-TIMEZONE:America/New_York
BEGIN:VEVENT
UID:1158@bethelsudbury.org
DTSTART;TZID=America/New_York:20260307T190000
DTEND;TZID=America/New_York:20260307T210000
DTSTAMP:20260305T033730Z
URL:https://www.bethelsudbury.org/events/purim-spiel-the-muppets-take-shus
 han/
SUMMARY:Purim Spiel: "The Muppets Take Shushan"
DESCRIPTION:It’s the most sensational\, inspirational\, educational\,&nbs
 p\;Bethelational.......\n\nThe Not Ready for Purim Players present "The Mu
 ppets Take Shushan" on Saturday\, March 7 at 7:00 p.m.\n\nWord on the stre
 et:\n\n 	“Starring moi!” — Miss Piggy\n 	“Pure garbage.” — Osc
 ar the Grouch\n 	“1... 2... 3rd worst Purim Spiel ever! Ah ha ha!” —
  The Count\n\nLive-stream using video link at the bottom of this page.
ATTACH;FMTTYPE=image/jpeg:https://www.bethelsudbury.org/wp-content/uploads
 /2026/02/Muppets.jpg
CATEGORIES:Home page
END:VEVENT
BEGIN:VTIMEZONE
TZID:America/New_York
X-LIC-LOCATION:America/New_York
BEGIN:STANDARD
DTSTART:20251102T010000
TZOFFSETFROM:-0400
TZOFFSETTO:-0500
TZNAME:EST
END:STANDARD
END:VTIMEZONE
END:VCALENDAR