BEGIN:VCALENDAR
VERSION:2.0
PRODID:-//wp-events-plugin.com//7.2.3.1//EN
TZID:America/New_York
X-WR-TIMEZONE:America/New_York
BEGIN:VEVENT
UID:999@bethelsudbury.org
DTSTART;TZID=America/New_York:20250315T191500
DTEND;TZID=America/New_York:20250315T210000
DTSTAMP:20250314T002133Z
URL:https://www.bethelsudbury.org/events/purim-spiel-shushan-night-live/
SUMMARY:Purim Spiel: "Shushan Night Live"
DESCRIPTION:This year marks the 50th anniversary of "Saturday Night Live\,"
  so what better way to recognize Purim and SNL than with a Beth El mashup?
  The evening starts with Havdalah and collection for Yad Chessed\, with th
 e always-entertaining Purim Spiel right afterwards. If you can't make it i
 n person\, watch the livestream.\n\nTo build anticipation (and refresh you
 r memory) ready\, have a look at these classic SNL bits. NOTE: these skits
  have obviously been all over TV and the internet\, but parents might want
  to pre-screen them before allowing young children to watch them\, just in
  case.\n\n 	Debbie Downer\n 	King Tut\n 	Celebrity Jeopardy\n 	Emily Litel
 la\n 	Roseanne Roseannadanna\n 	Two Wild and Crazy Guys\n 	The Coneheads\n
  	Coffee Talk\n 	Stuart Smalley\n 	Sprockets\n 	More Cowbell\n 	Weekend Up
 date\n 	Making Copies\n 	Mr. Bill\n 	Cheeseburger\n 	Church Lady\n 	Gilly\
 n
ATTACH;FMTTYPE=image/jpeg:https://www.bethelsudbury.org/wp-content/uploads
 /2025/02/ShushanNL-logo-1.jpg
CATEGORIES:Home page
END:VEVENT
BEGIN:VTIMEZONE
TZID:America/New_York
X-LIC-LOCATION:America/New_York
BEGIN:DAYLIGHT
DTSTART:20250309T030000
TZOFFSETFROM:-0500
TZOFFSETTO:-0400
TZNAME:EDT
END:DAYLIGHT
END:VTIMEZONE
END:VCALENDAR