BEGIN:VCALENDAR
VERSION:2.0
PRODID:-//wp-events-plugin.com//7.2.3.1//EN
TZID:America/New_York
X-WR-TIMEZONE:America/New_York
BEGIN:VEVENT
UID:226@bethelsudbury.org
DTSTART;TZID=America/New_York:20230708T193000
DTEND;TZID=America/New_York:20230708T193000
DTSTAMP:20230708T131143Z
URL:https://www.bethelsudbury.org/events/planet-b-an-evening-of-art-poetry
 -and-music/
SUMMARY:Planet B: An Evening of Art\, Poetry and Music
DESCRIPTION:Spotlighting art by Beth El artists on the theme of safeguardin
 g the earth and creating "Planet Better\," this opening event will also fe
 ature poetry by Beth El poets and music by Cantorial Soloist Lisa Jane Lip
 kin and her husband Jay Hitt.\nyou can also join by Zoom. Click here.
ATTACH;FMTTYPE=image/jpeg:https://www.bethelsudbury.org/wp-content/uploads
 /2023/06/lipkinhitt.jpg
END:VEVENT
BEGIN:VTIMEZONE
TZID:America/New_York
X-LIC-LOCATION:America/New_York
BEGIN:DAYLIGHT
DTSTART:20230312T030000
TZOFFSETFROM:-0500
TZOFFSETTO:-0400
TZNAME:EDT
END:DAYLIGHT
END:VTIMEZONE
END:VCALENDAR