BEGIN:VCALENDAR
VERSION:2.0
PRODID:-//wp-events-plugin.com//7.2.3.1//EN
TZID:America/New_York
X-WR-TIMEZONE:America/New_York
BEGIN:VEVENT
UID:214@bethelsudbury.org
DTSTART;TZID=America/New_York:20230525T173000
DTEND;TZID=America/New_York:20230525T220000
DTSTAMP:20230510T174331Z
URL:https://www.bethelsudbury.org/events/metrowest-tikkun-leil-shavuot-eve
 nt/
SUMMARY:MetroWest Tikkun Leil Shavuot event
DESCRIPTION:The MetroWest Jewish Community\, representing a dozen synagogue
 s and organizations\, will join together in person for a Tikkun Leil Shavu
 ot\, a program of celebration and study\, on Thursday\, May 25 at Temple I
 srael in Natick (145 Hartford St.\, Natick). If you can't come in person\,
  click here to watch on livestream.&nbsp\;\n\n 	5:30 PM – Shavuot Shabab
 a (Shavuot songs and stories for kids and adults)\n 	6:00 PM –&nbsp\;Din
 ner &amp\; cheesecake. Click here to reserve by May 18\n 	6:45 PM &amp\; 7
 :45 PM –&nbsp\;Workshops\n 	8:45 PM – Keynote speaker Rabbi Becky Silv
 erstein on "Embodying Torah: Creating Halakah and Ritual that Celebrates T
 rans Lives"\n 	9:45 PM – Maariv\, Ten Commandments\, and learning in mem
 ory of Rabbi Harold Kushner\n
ATTACH;FMTTYPE=image/jpeg:https://www.bethelsudbury.org/wp-content/uploads
 /2023/05/shavuot.jpeg
END:VEVENT
BEGIN:VTIMEZONE
TZID:America/New_York
X-LIC-LOCATION:America/New_York
BEGIN:DAYLIGHT
DTSTART:20230312T030000
TZOFFSETFROM:-0500
TZOFFSETTO:-0400
TZNAME:EDT
END:DAYLIGHT
END:VTIMEZONE
END:VCALENDAR