BEGIN:VCALENDAR
VERSION:2.0
PRODID:-//wp-events-plugin.com//7.2.3.1//EN
TZID:America/New_York
X-WR-TIMEZONE:America/New_York
BEGIN:VEVENT
UID:978@bethelsudbury.org
DTSTART;TZID=America/New_York:20250221T193000
DTEND;TZID=America/New_York:20250221T210000
DTSTAMP:20250214T153815Z
URL:https://www.bethelsudbury.org/events/love-love-love-at-shabbat-rinah-2
 /
SUMMARY:Love\, Love\, Love at Shabbat Rinah
DESCRIPTION:Let the sounds of Shabbat Rinah embrace your heart. The voices 
 and instruments of the Rinah musicians weave warmth in this winter month. 
 During this Shabbat evening service we will explore and express love – o
 f ourselves and of our fellow people\, of our community\, and of the ritua
 ls that keep us holy and whole. We will recognize JDAIM (Jewish Disability
  Awareness and Inclusion Month)\, and honor Repro Shabbat\, with teachings
  on reproductive rights in the Jewish tradition.\n\nHybrid event (click he
 re for Zoom link).&nbsp\;
ATTACH;FMTTYPE=image/jpeg:https://www.bethelsudbury.org/wp-content/uploads
 /2025/02/Vahavta-brushstroke-heart.jpg
CATEGORIES:Home page
END:VEVENT
BEGIN:VTIMEZONE
TZID:America/New_York
X-LIC-LOCATION:America/New_York
BEGIN:STANDARD
DTSTART:20241103T010000
TZOFFSETFROM:-0400
TZOFFSETTO:-0500
TZNAME:EST
END:STANDARD
END:VTIMEZONE
END:VCALENDAR