BEGIN:VCALENDAR
VERSION:2.0
PRODID:-//wp-events-plugin.com//7.2.3.1//EN
TZID:America/New_York
X-WR-TIMEZONE:America/New_York
BEGIN:VEVENT
UID:133@bethelsudbury.org
DTSTART;TZID=America/New_York:20220717T130000
DTEND;TZID=America/New_York:20220717T143000
DTSTAMP:20220628T174939Z
URL:https://www.bethelsudbury.org/events/linda-hirschhorn-there-will-alway
 s-be-singing/
SUMMARY:Linda Hirschhorn: "There Will Always Be Singing"
DESCRIPTION:Come to a concert featuring singer/songwriter/cantor Linda Hirs
 chhorn\, including songs with Beth El choral group Shir El and joyous audi
 ence participation.&nbsp\;Click here to register (free for Beth El members
 ). Zoom link TBA. For more information\, email Janet Buchwald at luckydog1
 8@comcast.net.
ATTACH;FMTTYPE=image/jpeg:https://www.bethelsudbury.org/wp-content/uploads
 /2022/06/hirschhorn.png
END:VEVENT
BEGIN:VTIMEZONE
TZID:America/New_York
X-LIC-LOCATION:America/New_York
BEGIN:DAYLIGHT
DTSTART:20220313T030000
TZOFFSETFROM:-0500
TZOFFSETTO:-0400
TZNAME:EDT
END:DAYLIGHT
END:VTIMEZONE
END:VCALENDAR