BEGIN:VCALENDAR
VERSION:2.0
PRODID:-//wp-events-plugin.com//7.2.3.1//EN
TZID:America/New_York
X-WR-TIMEZONE:America/New_York
BEGIN:VEVENT
UID:1062@bethelsudbury.org
DTSTART;TZID=America/New_York:20251008T193000
DTEND;TZID=America/New_York:20251008T210000
DTSTAMP:20251020T203155Z
URL:https://www.bethelsudbury.org/events/levyosn-sings-yiddish-songs-for-s
 ukkot/
SUMMARY:Levyosn Sings Yiddish Songs for Sukkot
DESCRIPTION:Join us for an evening exploring the ecological themes of Suk
 kot with Boston-based Yiddish song ensemble Levyosn. The band takes its 
 name from the Ashkenazi Hebrew word for the leviathan\, a mythical sea cre
 ature traveling the world’s oceans collecting songs\, krill\, and dreams
 . This interactive program will include sing-alongs\, stories\, and origin
 al and traditional songs performed with intricate arrangements and rich vo
 cal harmonies. Adah Hetko\, Lysander Jaffe\, and Lexi Ugelow will be joine
 d for this program by special guest Gitty Jakubo.&nbsp\;\n\nThis exciting 
 evening is free and open to all\, thanks to a grant from Combined Jewish P
 hilanthropies.\n\nClick here to register.&nbsp\;
ATTACH;FMTTYPE=image/jpeg:https://www.bethelsudbury.org/wp-content/uploads
 /2025/08/Levyosn.png
CATEGORIES:Home page
END:VEVENT
BEGIN:VTIMEZONE
TZID:America/New_York
X-LIC-LOCATION:America/New_York
BEGIN:DAYLIGHT
DTSTART:20250309T030000
TZOFFSETFROM:-0500
TZOFFSETTO:-0400
TZNAME:EDT
END:DAYLIGHT
END:VTIMEZONE
END:VCALENDAR