BEGIN:VCALENDAR
VERSION:2.0
PRODID:-//wp-events-plugin.com//7.2.3.1//EN
TZID:America/New_York
X-WR-TIMEZONE:America/New_York
BEGIN:VEVENT
UID:950@bethelsudbury.org
DTSTART;TZID=America/New_York:20250117T193000
DTEND;TZID=America/New_York:20250117T210000
DTSTAMP:20250102T162934Z
URL:https://www.bethelsudbury.org/events/let-freedom-ring-at-guest-rich-sh
 abbat-rinah/
SUMMARY:"Let Freedom Ring" at guest-rich Shabbat Rinah
DESCRIPTION:Join us as we celebrate the crucial civil rights work and legac
 y of Rev. Dr. Martin Luther King\, Jr. in a Shabbat of joyful song. Our di
 stinguished guest speaker is Rev. Dr. J. Anthony Lloyd of Greater Framingh
 am Community Church. The Shabbat Rinah musicians\, the interfaith quartet 
 What the World Needs Now (which includes Beth El member Belle Halpern)\, g
 uest choral music from our neighboring congregations\, and members of the 
 Sudbury Clergy Association will join Beth El clergy to co-create our servi
 ce. We'll raise our voices\, listen actively to Rev. Dr. King's prophetic 
 words\, and rededicate ourselves to the struggle for racial justice and ci
 vil rights. All are welcome. Co-sponsored by the Antiracism Working Group.
ATTACH;FMTTYPE=image/jpeg:https://www.bethelsudbury.org/wp-content/uploads
 /2024/11/Let-Freedom-Ring-MLK-Rinah-2025-BE-website-1200-x-800-px.png
CATEGORIES:Home page
END:VEVENT
BEGIN:VTIMEZONE
TZID:America/New_York
X-LIC-LOCATION:America/New_York
BEGIN:STANDARD
DTSTART:20241103T010000
TZOFFSETFROM:-0400
TZOFFSETTO:-0500
TZNAME:EST
END:STANDARD
END:VTIMEZONE
END:VCALENDAR