BEGIN:VCALENDAR
VERSION:2.0
PRODID:-//wp-events-plugin.com//7.2.3.1//EN
TZID:America/New_York
X-WR-TIMEZONE:America/New_York
BEGIN:VEVENT
UID:1176@bethelsudbury.org
DTSTART;TZID=America/New_York:20260422T190000
DTEND;TZID=America/New_York:20260422T203000
DTSTAMP:20260331T211658Z
URL:https://www.bethelsudbury.org/events/legacy-giving-guidance-with-cjps-
 shira-craft/
SUMMARY:Legacy Giving Guidance with CJP's Shira Kraft
DESCRIPTION:Would you like to know more about legacy giving at Beth El? Des
 ignating Beth El as a partial beneficiary of your estate is easy. More imp
 ortantly\, it is a dependable way to ensure that your values live on.\n\nW
 e are fortunate to host Shira Kraft\, Associate Vice President for Gift Pl
 anning and Endowment at Combined Jewish Philanthropies\, for an introducto
 ry presentation to begin Beth El’s legacy giving campaign. She will expl
 ain the deep meaning of adding a gift to Beth El to your estate planning a
 nd answer questions about the mechanics of creating a personal legacy. Con
 gregants can complete a “tell me more” form and request a meeting with
  a Beth El member who can answer questions and help guide the process.\n\n
 Legacy gifts can come from an estate of any size. A legacy gift can enable
  individuals to make larger gifts than they can make from ordinary income.
  And any promise of a legacy gift is completely revocable. We are attachin
 g a copy of the introductory letter about legacy giving to Beth El that yo
 u received last fall. It speaks of legacy as a meaningful way to assure th
 e future of Beth El for generations to come. Address questions to legacygi
 ving@bethelsudbury.org.&nbsp\;\n\nRegister here\; join in person or via Zo
 om.
ATTACH;FMTTYPE=image/jpeg:https://www.bethelsudbury.org/wp-content/uploads
 /2026/03/will.jpg
CATEGORIES:Home page
END:VEVENT
BEGIN:VTIMEZONE
TZID:America/New_York
X-LIC-LOCATION:America/New_York
BEGIN:DAYLIGHT
DTSTART:20260308T030000
TZOFFSETFROM:-0500
TZOFFSETTO:-0400
TZNAME:EDT
END:DAYLIGHT
END:VTIMEZONE
END:VCALENDAR