BEGIN:VCALENDAR
VERSION:2.0
PRODID:-//wp-events-plugin.com//7.2.3.1//EN
TZID:America/New_York
X-WR-TIMEZONE:America/New_York
BEGIN:VEVENT
UID:1180@bethelsudbury.org
DTSTART;TZID=America/New_York:20260509T183000
DTEND;TZID=America/New_York:20260509T203000
DTSTAMP:20260421T160631Z
URL:https://www.bethelsudbury.org/events/lag-bomer-bonfire-honoring-the-my
 stical-power-of-storytelling/
SUMMARY:Lag B’Omer Bonfire: Honoring the Mystical Power of Storytelling
DESCRIPTION:Come join Congregation Beth El and B’nai Or of Boston for a L
 ag B’Omer gathering around the fire with s’mores!\n\n“Lag” is an a
 cronym for לג the 33rd day of the Omer\, which takes us from Pesach to S
 havuot. On Lag B’Omer\, we celebrate the life of Rebbe Shimon Bar Yochai
 \, the protagonist of the Zohar\, our medieval mystical masterpiece. Rashb
 i\, as he’s known\, was a revealer of the hidden. So too storytelling re
 veals the hidden by opening up the personal and particular into the univer
 sal. Come share a story with us — maybe it’s how you fell in love\, an
  amazing account of synchronicity or healing you experienced. Or maybe it
 ’s your favorite fairy tale. Everything is welcome\, but please do keep 
 it no more than a few minutes so we can mindfully share the time with ever
 yone.\n\nNOTE: This event is limited to Beth El members. It's free\, but d
 onations are welcome and suggested to help cover the cost of the event. Sp
 ace is limited. Registration will close when capacity is reached.\n\nLOCAT
 ION: 181 Oxbow Road\, Wayland\, MA.&nbsp\;Register here.
ATTACH;FMTTYPE=image/jpeg:https://www.bethelsudbury.org/wp-content/uploads
 /2026/04/Lg-BOmer-Bonfire-1200-x-800-px-Arielle-Sabot.png
CATEGORIES:Home page
END:VEVENT
BEGIN:VTIMEZONE
TZID:America/New_York
X-LIC-LOCATION:America/New_York
BEGIN:DAYLIGHT
DTSTART:20260308T030000
TZOFFSETFROM:-0500
TZOFFSETTO:-0400
TZNAME:EDT
END:DAYLIGHT
END:VTIMEZONE
END:VCALENDAR