BEGIN:VCALENDAR
VERSION:2.0
PRODID:-//wp-events-plugin.com//7.2.3.1//EN
TZID:America/New_York
X-WR-TIMEZONE:America/New_York
BEGIN:VEVENT
UID:994@bethelsudbury.org
DTSTART;TZID=America/New_York:20250322T193000
DTEND;TZID=America/New_York:20250322T210000
DTSTAMP:20250216T175641Z
URL:https://www.bethelsudbury.org/events/kedmah-in-concert/
SUMMARY:Kedmah in Concert
DESCRIPTION:Rabbi Yosef Goldman and Yoni Avi Battat share an exciting eveni
 ng of Mizrahi music from Kedmah: The Rising Song Piyyut Project. We’ll m
 ake Havdalah together and then dive into a rich offering of sacred music a
 nd poetry from the world of Middle Eastern Jewry.\n\nKedmah excavates the 
 power and beauty of Mizrahi Jewish expression through ancient sacred poetr
 y and song known as piyyut. Their debut album\, Simu Lev (Rising Song Reco
 rds)\, was released in April 2024\, and their public performances have bee
 n met with acclaim\, including their debut at the Weitzman National Museum
  of American Jewish History in Philadelphia and a sold-out concert at the 
 Kennedy Center's Millennium Stage in Washington\, D.C.\n\nPart musical ens
 emble and part educational initiative\, their interactive concerts and wor
 kshops in schools\, synagogues\, concert halls\, and universities introduc
 e diverse audiences to the rich history and heritage of Middle Eastern Jew
 s\, fostering a deeper appreciation for the diversity of Jewish heritage a
 nd adds nuance to dichotomies of Jew and Arab\, offering a fresh lens on t
 he cultural overlaps of Jews with their neighbors in Arab lands.\n\nTicket
 s for the general public are available on a sliding scale on Eventbrite. F
 or members\, the event is free\; register here.
ATTACH;FMTTYPE=image/jpeg:https://www.bethelsudbury.org/wp-content/uploads
 /2025/02/Kedmah-concert-March-2025-for-website-1.png
CATEGORIES:Home page
END:VEVENT
BEGIN:VTIMEZONE
TZID:America/New_York
X-LIC-LOCATION:America/New_York
BEGIN:DAYLIGHT
DTSTART:20250309T030000
TZOFFSETFROM:-0500
TZOFFSETTO:-0400
TZNAME:EDT
END:DAYLIGHT
END:VTIMEZONE
END:VCALENDAR