BEGIN:VCALENDAR
VERSION:2.0
PRODID:-//wp-events-plugin.com//7.2.3.1//EN
TZID:America/New_York
X-WR-TIMEZONE:America/New_York
BEGIN:VEVENT
UID:854@bethelsudbury.org
DTSTART;TZID=America/New_York:20240606T190000
DTEND;TZID=America/New_York:20240606T203000
DTSTAMP:20240508T230326Z
URL:https://www.bethelsudbury.org/events/julia-cash-and-friends-come-to-be
 th-el/
SUMMARY:Julia Cash and the Pro Arte Chamber Orchestra
DESCRIPTION:Chamber music comes to Congregation Beth El! Pro Arte Chamber O
 rchestra of Boston is teaming up with Congregation Beth El to create a bea
 utiful spring evening salon concert.\n\nPro Arte concertmaster Julia Cash 
 will lead a concert program of violin-centric chamber music:\n\n 	Bedřich
  Smetana's "From My Life" quartet\n 	Antonio Vivaldi's concerto in B minor
 \n 	Grażyna Bacewicz's concerto for four violins\n\nFeatured musicians in
 clude Julia Cash\, violin\; Yeolim Nam\, violin\; Jeff Pearson\, violin\; 
 Liana Zaretsky\, violin\; and Rebecca Thornblade\, cello.\n\nPro Arte Cham
 ber Orchestra of Boston is one of New England’s only professional cooper
 ative chamber orchestras. Its players are among the area’s finest freela
 nce musicians\, and they perform regularly with the Boston Pops Esplanade 
 Orchestra\, the Boston Symphony\, the Boston Ballet\, Handel and Haydn Soc
 iety\, and the Boston Lyric Opera.\n\nThis performance will be live at Bet
 h El only. Click here to register. For more information\, contact Cantor V
 era Broekhuysen.
ATTACH;FMTTYPE=image/jpeg:https://www.bethelsudbury.org/wp-content/uploads
 /2024/04/Julia-Cash.png
CATEGORIES:Home page
END:VEVENT
BEGIN:VTIMEZONE
TZID:America/New_York
X-LIC-LOCATION:America/New_York
BEGIN:DAYLIGHT
DTSTART:20240310T030000
TZOFFSETFROM:-0500
TZOFFSETTO:-0400
TZNAME:EDT
END:DAYLIGHT
END:VTIMEZONE
END:VCALENDAR