BEGIN:VCALENDAR
VERSION:2.0
PRODID:-//wp-events-plugin.com//7.2.3.1//EN
TZID:America/New_York
X-WR-TIMEZONE:America/New_York
BEGIN:VEVENT
UID:795@bethelsudbury.org
DTSTART;TZID=America/New_York:20240203T190000
DTEND;TZID=America/New_York:20240203T230000
DTSTAMP:20240730T155142Z
URL:https://www.bethelsudbury.org/events/hias-weekend-cabaret-with-belle-h
 alpern/
SUMMARY:HIAS Refugee Cabaret with Belle Halpern
DESCRIPTION:As part of HIAS weekend recognizing current and past refugees\,
  Beth El member Belle Linda Halpern\, accompanied by pianist Ron Roy\, cel
 ebrates the centennial of her teacher\, Martha Schlamme\, who was famous f
 or singing "songs of many lands.” Martha spent her whole life giving con
 certs benefitting immigrants to this country and Belle is thrilled to cont
 inue that legacy.\nAdvance registration is required.
ATTACH;FMTTYPE=image/jpeg:https://www.bethelsudbury.org/wp-content/uploads
 /2023/12/belle2.jpg
CATEGORIES:Home page
END:VEVENT
BEGIN:VTIMEZONE
TZID:America/New_York
X-LIC-LOCATION:America/New_York
BEGIN:STANDARD
DTSTART:20231105T010000
TZOFFSETFROM:-0400
TZOFFSETTO:-0500
TZNAME:EST
END:STANDARD
END:VTIMEZONE
END:VCALENDAR