BEGIN:VCALENDAR
VERSION:2.0
PRODID:-//wp-events-plugin.com//7.2.3.1//EN
TZID:America/New_York
X-WR-TIMEZONE:America/New_York
BEGIN:VEVENT
UID:73@bethelsudbury.org
DTSTART;TZID=America/New_York:20220127T193000
DTEND;TZID=America/New_York:20220127T193000
DTSTAMP:20220110T234006Z
URL:https://www.bethelsudbury.org/events/greening-your-home-electricity/
SUMMARY:Greening Your Home Electricity
DESCRIPTION:\n 	Are you considering adding solar panels to your roof?\n 	Su
 dbury has a community electricity aggregation program. Wayland and Framing
 ham are planning them. What are those?\n 	What’s a community solar proje
 ct? What do I get when I subscribe?\n 	What’s the difference amongst the
 se options?\n 	I am renting my place. Trees shade my roof. What can I do?\
 n 	Can I combine these options? How do I compare competing offers?\n 	How 
 can I help make a new renewable power project happen?\n\nIf you have quest
 ions like these\, then this evening is for you!\n\nCongregation Beth El’
 s Green Team\, with support from MassEnergize and the Jewish Climate Actio
 n Network-MA (JCAN)\, can help you sort out the possibilities with informa
 tion from these presenters:\n\n 	Paul Gromer\, Peregrine Energy Group — 
 clean energy consultant for municipal community aggregation programs state
 wide\n 	Barry Sheingold\, New Energy Opportunities\n 	John Harper\, Birch 
 Tree Capital — clean energy consultants\, and members of the Beth El Gre
 en Team\n\nClick here to register. For more information\, contact John Har
 per\, Beth El Green Team.
ATTACH;FMTTYPE=image/jpeg:https://www.bethelsudbury.org/wp-content/uploads
 /2021/12/Home-Solar-panels2.jpg
END:VEVENT
BEGIN:VTIMEZONE
TZID:America/New_York
X-LIC-LOCATION:America/New_York
BEGIN:STANDARD
DTSTART:20211107T010000
TZOFFSETFROM:-0400
TZOFFSETTO:-0500
TZNAME:EST
END:STANDARD
END:VTIMEZONE
END:VCALENDAR