BEGIN:VCALENDAR
VERSION:2.0
PRODID:-//wp-events-plugin.com//7.2.3.1//EN
TZID:America/New_York
X-WR-TIMEZONE:America/New_York
BEGIN:VEVENT
UID:839@bethelsudbury.org
DTSTART;TZID=America/New_York:20240410T120000
DTEND;TZID=America/New_York:20240410T130000
DTSTAMP:20240409T135955Z
URL:https://www.bethelsudbury.org/events/go-down-moses-bringing-a-racial-j
 ustice-lens-to-the-seder/
SUMMARY:"Go Down Moses": Bringing a Racial Justice Lens to the Seder
DESCRIPTION:How do we sing and talk about slavery and liberation during our
  Passover seders? How does the legacy of African-American enslavement show
  up at our Seder tables as we recount the Exodus story? Join Cantor Vera a
 nd the Antiracism Working Group to bring a racial justice lens to the Pass
 over Seder. Bring your haggadah! This event is&nbsp\;only&nbsp\;on Zoom. C
 lick here for the Zoom link.\n\n&nbsp\;
ATTACH;FMTTYPE=image/jpeg:https://www.bethelsudbury.org/wp-content/uploads
 /2024/03/birds-and-chain2.jpg
CATEGORIES:Home page
END:VEVENT
BEGIN:VTIMEZONE
TZID:America/New_York
X-LIC-LOCATION:America/New_York
BEGIN:DAYLIGHT
DTSTART:20240310T030000
TZOFFSETFROM:-0500
TZOFFSETTO:-0400
TZNAME:EDT
END:DAYLIGHT
END:VTIMEZONE
END:VCALENDAR