BEGIN:VCALENDAR
VERSION:2.0
PRODID:-//wp-events-plugin.com//7.2.3.1//EN
TZID:America/New_York
X-WR-TIMEZONE:America/New_York
BEGIN:VEVENT
UID:958@bethelsudbury.org
DTSTART;TZID=America/New_York:20250906T190000
DTEND;TZID=America/New_York:20250906T203000
DTSTAMP:20250813T162044Z
URL:https://www.bethelsudbury.org/events/elana-arian-shares-song-story/
SUMMARY:Elana Arian Shares Song & Story
DESCRIPTION:(Rescheduled from January 2025)\n\nElana Arian creates an intim
 ate evening of song and story\, beginning with Havdalah\, at Congregation 
 Beth El\, including music from her thrilling new album\, If We Loved Like 
 That. Together we’ll sing\, listen\, laugh\, resonate\, and respond to E
 lana’s extraordinary voice and generous\, beautiful sharing of soul as s
 he invites us into her music.\n\nA composer\, multi-instrumentalist\, and 
 prayer leader\, Elana Arian is one of the most influential voices in conte
 mporary Jewish music. A nationally touring artist serving over 30 distinct
  communities each year\, Elana’s music is an important part of Jewish li
 fe across the globe. Elana has released five albums of original music\, an
 d she is the subject of a dedicated composer’s anthology published by Tr
 anscontinental Music Publications.\n\nA beloved teacher\, Elana serves pro
 udly on the faculty of Hava Nashira (Oconomowoc\, WI)\, the Wexner Heritag
 e Foundation (Aspen\, CO)\, Shirei Chagiga (London)\, and Hebrew Union Col
 lege in New York\, where she teaches in the Debbie Friedman School of Sacr
 ed Music. Elana has performed at Carnegie Hall\, Lincoln Center\, Tanglewo
 od\, and perhaps most memorably\, five separate appearances at the (Obama)
  White House. She lives in the Hudson Valley with her wife\, Julia\, and t
 heir two daughters\, Maya and Acadia.\nIMPORTANT: Tickets for nonmembers a
 re available on a sliding scale here. The event is free for Beth El member
 s\, who can register here.\n“One of the greatest Jewish voices of our ti
 me.” — Cantor Aviva Marer
ATTACH;FMTTYPE=image/jpeg:https://www.bethelsudbury.org/wp-content/uploads
 /2024/12/Elana-Arian-2025-website-1200-x-800-px.png
CATEGORIES:Home page
END:VEVENT
BEGIN:VTIMEZONE
TZID:America/New_York
X-LIC-LOCATION:America/New_York
BEGIN:DAYLIGHT
DTSTART:20250309T030000
TZOFFSETFROM:-0500
TZOFFSETTO:-0400
TZNAME:EDT
END:DAYLIGHT
END:VTIMEZONE
END:VCALENDAR