BEGIN:VCALENDAR
VERSION:2.0
PRODID:-//wp-events-plugin.com//7.2.3.1//EN
TZID:America/New_York
X-WR-TIMEZONE:America/New_York
BEGIN:VEVENT
UID:95@bethelsudbury.org
DTSTART;TZID=America/New_York:20220306T190000
DTEND;TZID=America/New_York:20220306T190000
DTSTAMP:20220227T152418Z
URL:https://www.bethelsudbury.org/events/darkness-into-light-by-selmadanse
 /
SUMMARY:Darkness into Light by Selmadanse
DESCRIPTION:Joanie Block and Selmadanse members Julie Leavitt and Melinda R
 othstein explore the existence of Darkness and Light within the world arou
 nd us.\n\nJoanie Block is the founder and artistic director of Selmadance.
  Her dances frequently address Jewish Themes.
ATTACH;FMTTYPE=image/jpeg:https://www.bethelsudbury.org/wp-content/uploads
 /2022/02/Selma-Dance.jpg
END:VEVENT
BEGIN:VTIMEZONE
TZID:America/New_York
X-LIC-LOCATION:America/New_York
BEGIN:STANDARD
DTSTART:20211107T010000
TZOFFSETFROM:-0400
TZOFFSETTO:-0500
TZNAME:EST
END:STANDARD
END:VTIMEZONE
END:VCALENDAR