BEGIN:VCALENDAR
VERSION:2.0
PRODID:-//wp-events-plugin.com//7.2.3.1//EN
TZID:America/New_York
X-WR-TIMEZONE:America/New_York
BEGIN:VEVENT
UID:819@bethelsudbury.org
DTSTART;TZID=America/New_York:20240317T100000
DTEND;TZID=America/New_York:20240317T110000
DTSTAMP:20240306T164617Z
URL:https://www.bethelsudbury.org/events/come-sing-songs-about-the-climate
 /
SUMMARY:Come sing songs about the climate!
DESCRIPTION:Cantor Vera and Beth El member Sophie Glasser will lead a speci
 al "Come and Sing" which will include discussions in rotating pairs about 
 climate change. This event will be in person only.&nbsp\;
ATTACH;FMTTYPE=image/jpeg:https://www.bethelsudbury.org/wp-content/uploads
 /2024/02/Come-and-sing.png
CATEGORIES:Home page
END:VEVENT
BEGIN:VTIMEZONE
TZID:America/New_York
X-LIC-LOCATION:America/New_York
BEGIN:DAYLIGHT
DTSTART:20240310T030000
TZOFFSETFROM:-0500
TZOFFSETTO:-0400
TZNAME:EDT
END:DAYLIGHT
END:VTIMEZONE
END:VCALENDAR