BEGIN:VCALENDAR
VERSION:2.0
PRODID:-//wp-events-plugin.com//7.2.3.1//EN
TZID:America/New_York
X-WR-TIMEZONE:America/New_York
BEGIN:VEVENT
UID:1112@bethelsudbury.org
DTSTART;TZID=America/New_York:20260502T140000
DTEND;TZID=America/New_York:20260502T150000
DTSTAMP:20260416T173019Z
URL:https://www.bethelsudbury.org/events/circle-round-for-singing-6/
SUMMARY:Songs for Struggling Together (note location)
DESCRIPTION:What are our spiritual\, musical resources for showing up in di
 fficult times? Join Kevin Murphy and Rob Hammerton (music director and cho
 ir director of Sudbury United Methodist Church) and Cantor Vera Broekhuyse
 n of Congregation Beth El for a song workshop exploring songs that help us
  live our values in difficult times. This workshop will put songs from Jew
 ish and Christian traditions into dialogue with each other\, helping us le
 arn from and with one another. All are welcome!\n\nNOTE LOCATION: Sudbury 
 United Methodist Church\, 251 Old Sudbury Rd.\, Sudbury MA\n\nPart of "Cir
 cle 'Round for Singing\," Cantor Vera's series of in-person community song
  circles throughout 5786. Circle 'Round for Singing is a Hadar Community G
 roup. To register\, click here.\n\nDates: Saturdays from 1:30pm–3:00pm\n
 \nUpcoming:\n\n 	June 6th\n
ATTACH;FMTTYPE=image/jpeg:https://www.bethelsudbury.org/wp-content/uploads
 /2025/11/Circle-Round-for-Singing-website-graphic-1200-x-800-px-with-Hadar
 -and-BE-logos-1.png
CATEGORIES:Home page
END:VEVENT
BEGIN:VTIMEZONE
TZID:America/New_York
X-LIC-LOCATION:America/New_York
BEGIN:DAYLIGHT
DTSTART:20260308T030000
TZOFFSETFROM:-0500
TZOFFSETTO:-0400
TZNAME:EDT
END:DAYLIGHT
END:VTIMEZONE
END:VCALENDAR