BEGIN:VCALENDAR
VERSION:2.0
PRODID:-//wp-events-plugin.com//7.2.3.1//EN
TZID:America/New_York
X-WR-TIMEZONE:America/New_York
BEGIN:VEVENT
UID:787@bethelsudbury.org
DTSTART;TZID=America/New_York:20231203T093000
DTEND;TZID=America/New_York:20231203T140000
DTSTAMP:20231127T225157Z
URL:https://www.bethelsudbury.org/events/beth-els-annual-mitzvah-mall/
SUMMARY:Beth El's Annual Mitzvah Mall
DESCRIPTION:Check out our sale of handcrafted Guatemalan beaded and woven g
 oods. The range of items make wonderful Hanukkah gifts.. Among the items o
 n sale are kippot\, challah covers\, shawls that can convert to tallitot\,
  and much more. The funds from the sales go to support a secular school in
  Guatemala called Bendicion de Dios (Blessing from God School). The 500 st
 udents and their families live in dire poverty and cannot afford the cost 
 of "public school" in Guatemala. This sale also supports the fair trade ar
 tisans. 10% of the proceeds go to Beth El.\n\nThis event is run by Jane &a
 mp\; Martin Brauer\, board members of Under the Same Moon\, the American f
 undraising arm for this school\, and supported by Carrie Fuchs\, who serve
 s on our Advisory Committee.
ATTACH;FMTTYPE=image/jpeg:https://www.bethelsudbury.org/wp-content/uploads
 /2023/11/Mitzvah-Mall.png
CATEGORIES:Home page
END:VEVENT
BEGIN:VTIMEZONE
TZID:America/New_York
X-LIC-LOCATION:America/New_York
BEGIN:STANDARD
DTSTART:20231105T010000
TZOFFSETFROM:-0400
TZOFFSETTO:-0500
TZNAME:EST
END:STANDARD
END:VTIMEZONE
END:VCALENDAR