BEGIN:VCALENDAR
VERSION:2.0
PRODID:-//wp-events-plugin.com//7.2.3.1//EN
TZID:America/New_York
X-WR-TIMEZONE:America/New_York
BEGIN:VEVENT
UID:1037@bethelsudbury.org
DTSTART;TZID=America/New_York:20250718T200000
DTEND;TZID=America/New_York:20250718T210000
DTSTAMP:20250703T195948Z
URL:https://www.bethelsudbury.org/events/american-jewish-music-multimedia-
 presentation-with-hal-slifer/
SUMMARY:American Jewish Music Multimedia Presentation with Hal Slifer
DESCRIPTION:Hal&nbsp\;Slifer\, host of Chagigah Radio on WERS\, will offer 
 an engaging multimedia exploration of American Jewish music\, blending vid
 eos\, live commentary\, and visual storytelling. He shares insights into h
 ow this vibrant musical tradition has evolved and continues to influence o
 ur generation's cultural identity. Through compelling multimedia content\,
  Hal connects historical melodies to our enduring significance of Jewish m
 usical heritage. This dynamic presentation encourages reflection and appre
 ciation of how music shapes our community and personal experiences today.&
 nbsp\;\n\nShabbat Services will go from 7:00pm - 7:45pm\, followed by Hal'
 s presentation at 8:00pm.&nbsp\;\n\nRegistration here!
ATTACH;FMTTYPE=image/jpeg:https://www.bethelsudbury.org/wp-content/uploads
 /2025/06/Hal-Slifer.png
CATEGORIES:Home page
END:VEVENT
BEGIN:VTIMEZONE
TZID:America/New_York
X-LIC-LOCATION:America/New_York
BEGIN:DAYLIGHT
DTSTART:20250309T030000
TZOFFSETFROM:-0500
TZOFFSETTO:-0400
TZNAME:EDT
END:DAYLIGHT
END:VTIMEZONE
END:VCALENDAR