BEGIN:VCALENDAR
VERSION:2.0
PRODID:-//wp-events-plugin.com//7.2.3.1//EN
TZID:America/New_York
X-WR-TIMEZONE:America/New_York
BEGIN:VEVENT
UID:204@bethelsudbury.org
DTSTART;TZID=America/New_York:20230319T193000
DTEND;TZID=America/New_York:20230319T203000
DTSTAMP:20230317T183855Z
URL:https://www.bethelsudbury.org/events/afro-semitic-experience-teen-work
 shop-and-concert/
SUMMARY:Afro-Semitic Experience concert
DESCRIPTION:Congregation Or Atid\, in collaboration with the MetroWest Jewi
 sh CultureFest\, Congregation Beth El and other area congregations\, prese
 nts the Afro-Semitic Experience — a jazz and world music band that combi
 nes an eclectic array of styles\, sophisticated musicianship\, good songwr
 iting\, deep grooves\, and years of friendship with a simple message: Unit
 y in the Community. Stay around to mingle with the band after the concert.
 \n\n 	6–7 PM: The band is leading a J-LOFT March Meetup workshop for tee
 ns ages 14-18 in which they will share their stories\, play music\, and pr
 ovide a truly unique experience. Click here to register for the workshop.\
 n 	7:30–8:30 PM: Concert for all ages at Or Atid (97 Concord Rd.\, Wayla
 nd) — also available on Zoom for those who can't attend in person.\n\nAd
 vance registration is optional — email programming@congregationoratid.or
 g to register or get more information. If you plan to watch on Zoom\, you 
 must log in with your first and last name or you will not be admitted (a Z
 oom handle such as "Kay's iPhone") won't work. Click here for the Zoom lin
 k.&nbsp\;
ATTACH;FMTTYPE=image/jpeg:https://www.bethelsudbury.org/wp-content/uploads
 /2023/03/afro-semitic-exp.png
END:VEVENT
BEGIN:VTIMEZONE
TZID:America/New_York
X-LIC-LOCATION:America/New_York
BEGIN:DAYLIGHT
DTSTART:20230312T030000
TZOFFSETFROM:-0500
TZOFFSETTO:-0400
TZNAME:EDT
END:DAYLIGHT
END:VTIMEZONE
END:VCALENDAR